BEGIN:VCALENDAR
VERSION:2.0
PRODID:icalendar-ruby
CALSCALE:GREGORIAN
METHOD:PUBLISH
BEGIN:VEVENT
DTSTAMP:20260424T184632Z
UID:f3e5a909-62d4-4eb8-803d-ae5e21c61503
DTSTART;VALUE=DATE:20151205
DTEND;VALUE=DATE:20151205
DESCRIPTION:Apple Valley BMX Moto Park
LOCATION:24320 Highway 18  Apple Valley CA 92307 USA
SUMMARY:Local Race Single
URL:/site/bmx_races/291388
END:VEVENT
END:VCALENDAR
