BEGIN:VCALENDAR
VERSION:2.0
PRODID:icalendar-ruby
CALSCALE:GREGORIAN
METHOD:PUBLISH
BEGIN:VEVENT
DTSTAMP:20260425T142045Z
UID:27abe64b-ed7e-473c-8110-086fab7ba0f0
DTSTART;VALUE=DATE:20151006
DTEND;VALUE=DATE:20151006
DESCRIPTION:Oak Creek BMX
LOCATION:648 Riverside Ave  Roseville CA 95678 USA
SUMMARY:Standard Single
URL:/site/bmx_races/290540
END:VEVENT
END:VCALENDAR
