BEGIN:VCALENDAR
VERSION:2.0
PRODID:icalendar-ruby
CALSCALE:GREGORIAN
METHOD:PUBLISH
BEGIN:VEVENT
DTSTAMP:20260424T173055Z
UID:82fd2542-f063-4ecb-a758-c6382738b7c7
DTSTART;VALUE=DATE:20151206
DTEND;VALUE=DATE:20151206
DESCRIPTION:Rad Canyon BMX Indoor
LOCATION:2100 W 11400 S  South Jordan UT 84095 USA
SUMMARY:Local Race Single
URL:/site/bmx_races/289962
END:VEVENT
END:VCALENDAR
