BEGIN:VCALENDAR
VERSION:2.0
PRODID:icalendar-ruby
CALSCALE:GREGORIAN
METHOD:PUBLISH
BEGIN:VEVENT
DTSTAMP:20260425T144142Z
UID:b5826333-83d1-496b-a18f-430ca90b6383
DTSTART;VALUE=DATE:20150912
DTEND;VALUE=DATE:20150912
DESCRIPTION:Air Time BMX
LOCATION:5051 S Frankwood Ave  Reedley CA 93654 USA
SUMMARY:Standard Single
URL:/site/bmx_races/289917
END:VEVENT
END:VCALENDAR
