BEGIN:VCALENDAR
VERSION:2.0
PRODID:icalendar-ruby
CALSCALE:GREGORIAN
METHOD:PUBLISH
BEGIN:VEVENT
DTSTAMP:20260425T202400Z
UID:e9f06788-95d5-4493-b95e-f9def72c0dd6
DTSTART;VALUE=DATE:20160109
DTEND;VALUE=DATE:20160109
DESCRIPTION:Southwest Wyoming Indoor BMX
LOCATION:3320 Yellowstone Road  Rock Springs WY 82901 USA
SUMMARY:Local Race Single
URL:/site/bmx_races/289789
END:VEVENT
END:VCALENDAR
