BEGIN:VCALENDAR
VERSION:2.0
PRODID:icalendar-ruby
CALSCALE:GREGORIAN
METHOD:PUBLISH
BEGIN:VEVENT
DTSTAMP:20260425T125522Z
UID:133cddec-b54b-4d58-a0fe-c1a295f63a85
DTSTART;VALUE=DATE:20151011
DTEND;VALUE=DATE:20151011
DESCRIPTION:Revolution Bike Park
LOCATION:400 Mundis Race Rd  York PA 17406 USA
SUMMARY:Earned Double
URL:/site/bmx_races/289451
END:VEVENT
END:VCALENDAR
