BEGIN:VCALENDAR
VERSION:2.0
PRODID:icalendar-ruby
CALSCALE:GREGORIAN
METHOD:PUBLISH
BEGIN:VEVENT
DTSTAMP:20260424T201238Z
UID:3dec9732-d216-465b-92e7-6aa4f0c8d651
DTSTART;VALUE=DATE:20160116
DTEND;VALUE=DATE:20160116
DESCRIPTION:Peninsula Indoor BMX
LOCATION:5867 Dogwood Road Se  Port Orchard WA 98367 USA
SUMMARY:Local Race Single
URL:/site/bmx_races/288968
END:VEVENT
END:VCALENDAR
