BEGIN:VCALENDAR
VERSION:2.0
PRODID:icalendar-ruby
CALSCALE:GREGORIAN
METHOD:PUBLISH
BEGIN:VEVENT
DTSTAMP:20260425T025542Z
UID:dcdae921-1e8b-4016-bcdb-cc632c590484
DTSTART;VALUE=DATE:20150911
DTEND;VALUE=DATE:20150911
DESCRIPTION:Boulder BMX\, Inc
LOCATION:1799 Commons Way  Boulder City NV 89005 USA
SUMMARY:Local Race Single
URL:/site/bmx_races/288863
END:VEVENT
END:VCALENDAR
