BEGIN:VCALENDAR
VERSION:2.0
PRODID:icalendar-ruby
CALSCALE:GREGORIAN
METHOD:PUBLISH
BEGIN:VEVENT
DTSTAMP:20260424T202359Z
UID:e0a7ce74-9507-4635-8d8a-8e7bbdab9830
DTSTART;VALUE=DATE:20150820
DTEND;VALUE=DATE:20150820
DESCRIPTION:Eagle County BMX
LOCATION:1700 Bull Pasture Rd  Eagle CO 81631 USA
SUMMARY:Local Race Single
URL:/site/bmx_races/288201
END:VEVENT
END:VCALENDAR
