BEGIN:VCALENDAR
VERSION:2.0
PRODID:icalendar-ruby
CALSCALE:GREGORIAN
METHOD:PUBLISH
BEGIN:VEVENT
DTSTAMP:20260424T105742Z
UID:0c89fe27-1294-48a9-9fc4-8666cfbc2723
DTSTART;VALUE=DATE:20150713
DTEND;VALUE=DATE:20150713
DESCRIPTION:Johnstown BMX
LOCATION:260 Playground Drive  Johnstown PA 15904 USA
SUMMARY:Standard Single
URL:/site/bmx_races/287665
END:VEVENT
END:VCALENDAR
