BEGIN:VCALENDAR
VERSION:2.0
PRODID:icalendar-ruby
CALSCALE:GREGORIAN
METHOD:PUBLISH
BEGIN:VEVENT
DTSTAMP:20260424T090135Z
UID:7352f3f1-24db-418a-8b8a-2017b480683b
DTSTART;VALUE=DATE:20150702
DTEND;VALUE=DATE:20150702
DESCRIPTION:80/35 BMX
LOCATION:1701 E Mc Kinley Ave  Des Moines IA 50320 USA
SUMMARY:Standard Single
URL:/site/bmx_races/287531
END:VEVENT
END:VCALENDAR
