BEGIN:VCALENDAR
VERSION:2.0
PRODID:icalendar-ruby
CALSCALE:GREGORIAN
METHOD:PUBLISH
BEGIN:VEVENT
DTSTAMP:20260425T190915Z
UID:89fc7159-b286-4917-8917-653ce7ca25fd
DTSTART;VALUE=DATE:20150719
DTEND;VALUE=DATE:20150719
DESCRIPTION:Fond Du Lac BMX Club
LOCATION:307 N Hickory St  Fond Du lac WI 54935 USA
SUMMARY:Local Race Single
URL:/site/bmx_races/287235
END:VEVENT
END:VCALENDAR
