BEGIN:VCALENDAR
VERSION:2.0
PRODID:icalendar-ruby
CALSCALE:GREGORIAN
METHOD:PUBLISH
BEGIN:VEVENT
DTSTAMP:20260424T152458Z
UID:839050db-da5c-40bd-8ba8-cfefb10d7e0c
DTSTART;VALUE=DATE:20150910
DTEND;VALUE=DATE:20150910
DESCRIPTION:Raytown BMX
LOCATION:12605 Frost Rd  Kansas City MO 64138 USA
SUMMARY:Local Race Single
URL:/site/bmx_races/286857
END:VEVENT
END:VCALENDAR
