BEGIN:VCALENDAR
VERSION:2.0
PRODID:icalendar-ruby
CALSCALE:GREGORIAN
METHOD:PUBLISH
BEGIN:VEVENT
DTSTAMP:20260425T150800Z
UID:2e253c83-0411-4a81-a21c-ff146cfff99c
DTSTART;VALUE=DATE:20150614
DTEND;VALUE=DATE:20150614
DESCRIPTION:Foothills BMX
LOCATION:620 Alvord Park Rd  Torrington CT 06790 USA
SUMMARY:Race For Life Single
URL:/site/bmx_races/286742
END:VEVENT
END:VCALENDAR
