BEGIN:VCALENDAR
VERSION:2.0
PRODID:icalendar-ruby
CALSCALE:GREGORIAN
METHOD:PUBLISH
BEGIN:VEVENT
DTSTAMP:20260424T190053Z
UID:6e486a28-907a-464d-8116-77a9fd13a8df
DTSTART;VALUE=DATE:20150711
DTEND;VALUE=DATE:20150711
DESCRIPTION:Deseret Peak BMX 
LOCATION:2930 West Hwy 112  Tooele UT 84074 USA
SUMMARY:Local Race Single
URL:/site/bmx_races/286623
END:VEVENT
END:VCALENDAR
