BEGIN:VCALENDAR
VERSION:2.0
PRODID:icalendar-ruby
CALSCALE:GREGORIAN
METHOD:PUBLISH
BEGIN:VEVENT
DTSTAMP:20260425T215251Z
UID:e142b26b-1462-45e2-9ddf-0f9c4bd4851a
DTSTART;VALUE=DATE:20150510
DTEND;VALUE=DATE:20150510
DESCRIPTION:Smoky Mountain BMX
LOCATION:3100 Lorino Park Road  Morristown TN 37813 USA
SUMMARY:Standard Single
URL:/site/bmx_races/286041
END:VEVENT
END:VCALENDAR
