BEGIN:VCALENDAR
VERSION:2.0
PRODID:icalendar-ruby
CALSCALE:GREGORIAN
METHOD:PUBLISH
BEGIN:VEVENT
DTSTAMP:20260425T142006Z
UID:ee23dbd5-b998-44ce-83a3-fecfc55bb853
DTSTART;VALUE=DATE:20150915
DTEND;VALUE=DATE:20150915
DESCRIPTION:River City BMX
LOCATION:251 Ne Agness  Grants Pass OR 97526 USA
SUMMARY:Local Race Single
URL:/site/bmx_races/285998
END:VEVENT
END:VCALENDAR
