BEGIN:VCALENDAR
VERSION:2.0
PRODID:icalendar-ruby
CALSCALE:GREGORIAN
METHOD:PUBLISH
BEGIN:VEVENT
DTSTAMP:20260425T230849Z
UID:0e62e09e-1476-4889-b3e4-24f3ede5f57c
DTSTART;VALUE=DATE:20150619
DTEND;VALUE=DATE:20150619
DESCRIPTION:TRI CITY BMX
LOCATION:3710 30th Ave  Kearney NE 68845 USA
SUMMARY:Olympic Day Single
URL:/site/bmx_races/285405
END:VEVENT
END:VCALENDAR
