BEGIN:VCALENDAR
VERSION:2.0
PRODID:icalendar-ruby
CALSCALE:GREGORIAN
METHOD:PUBLISH
BEGIN:VEVENT
DTSTAMP:20260424T215408Z
UID:6c489dd1-6524-4d6f-a7c0-c192377d38b5
DTSTART;VALUE=DATE:20150913
DTEND;VALUE=DATE:20150913
DESCRIPTION:Greater Victoria BMX
LOCATION:1767 Island Hwy  Victoria BC V9B 1J1 CAN
SUMMARY:Local Race Single
URL:/site/bmx_races/285195
END:VEVENT
END:VCALENDAR
