BEGIN:VCALENDAR
VERSION:2.0
PRODID:icalendar-ruby
CALSCALE:GREGORIAN
METHOD:PUBLISH
BEGIN:VEVENT
DTSTAMP:20260424T232600Z
UID:1977ffdd-bd40-4a7c-bb93-b73ff2bdcd34
DTSTART;VALUE=DATE:20150901
DTEND;VALUE=DATE:20150901
DESCRIPTION:Greater Victoria BMX
LOCATION:1767 Island Hwy  Victoria BC V9B 1J1 CAN
SUMMARY:Local Race Single
URL:/site/bmx_races/285191
END:VEVENT
END:VCALENDAR
