BEGIN:VCALENDAR
VERSION:2.0
PRODID:icalendar-ruby
CALSCALE:GREGORIAN
METHOD:PUBLISH
BEGIN:VEVENT
DTSTAMP:20260425T165222Z
UID:b5ebccd7-8f95-4563-b49b-0dc17bc62933
DTSTART;VALUE=DATE:20150422
DTEND;VALUE=DATE:20150422
DESCRIPTION:Sports Park BMX
LOCATION:6901 N Casa Grande Highway  Tucson AZ 85743 USA
SUMMARY:Standard Single
URL:/site/bmx_races/284653
END:VEVENT
END:VCALENDAR
