BEGIN:VCALENDAR
VERSION:2.0
PRODID:icalendar-ruby
CALSCALE:GREGORIAN
METHOD:PUBLISH
BEGIN:VEVENT
DTSTAMP:20260424T092640Z
UID:3277c8b8-3841-465d-8522-cf8cf0480206
DTSTART;VALUE=DATE:20150524
DTEND;VALUE=DATE:20150524
DESCRIPTION:Stars and Stripes BMX
LOCATION:33187 Highway 247  Lucerne Valley CA 92356 USA
SUMMARY:Local Race Single
URL:/site/bmx_races/284605
END:VEVENT
END:VCALENDAR
