BEGIN:VCALENDAR
VERSION:2.0
PRODID:icalendar-ruby
CALSCALE:GREGORIAN
METHOD:PUBLISH
BEGIN:VEVENT
DTSTAMP:20260424T173046Z
UID:d5331722-821a-400c-bed0-9d0e08fe5c06
DTSTART;VALUE=DATE:20150920
DTEND;VALUE=DATE:20150920
DESCRIPTION:Goodyear BMX Raceway
LOCATION:15660 W Roeser Rd  Goodyear AZ 85338 USA
SUMMARY:State Race Double
URL:/site/bmx_races/284414
END:VEVENT
END:VCALENDAR
