BEGIN:VCALENDAR
VERSION:2.0
PRODID:icalendar-ruby
CALSCALE:GREGORIAN
METHOD:PUBLISH
BEGIN:VEVENT
DTSTAMP:20260425T024536Z
UID:8cbe4cd3-e7a5-4b68-938c-bed99a0885a4
DTSTART;VALUE=DATE:20150801
DTEND;VALUE=DATE:20150801
DESCRIPTION:Rock Hill BMX Supercross Track
LOCATION:1307 Riverwalk Parkway  Rock Hill SC 29730 USA
SUMMARY:Race for Life Double
URL:/site/bmx_races/284178
END:VEVENT
END:VCALENDAR
