BEGIN:VCALENDAR
VERSION:2.0
PRODID:icalendar-ruby
CALSCALE:GREGORIAN
METHOD:PUBLISH
BEGIN:VEVENT
DTSTAMP:20260425T142038Z
UID:64181aa6-dfe9-4d7c-866d-4e947bbbcd35
DTSTART;VALUE=DATE:20150801
DTEND;VALUE=DATE:20150801
DESCRIPTION:Okeeheelee BMX
LOCATION:8145 Forest Hill Blvd  West Palm Beach FL 33413 USA
SUMMARY:Local Race Single
URL:/site/bmx_races/283139
END:VEVENT
END:VCALENDAR
