BEGIN:VCALENDAR
VERSION:2.0
PRODID:icalendar-ruby
CALSCALE:GREGORIAN
METHOD:PUBLISH
BEGIN:VEVENT
DTSTAMP:20260424T234228Z
UID:c73d6046-d9a2-439f-aaeb-c7d071482108
DTSTART;VALUE=DATE:20150714
DTEND;VALUE=DATE:20150714
DESCRIPTION:The Hill BMX
LOCATION:709 Sports Way  Elgin IL 60123 USA
SUMMARY:Local Race Single
URL:/site/bmx_races/283104
END:VEVENT
END:VCALENDAR
