BEGIN:VCALENDAR
VERSION:2.0
PRODID:icalendar-ruby
CALSCALE:GREGORIAN
METHOD:PUBLISH
BEGIN:VEVENT
DTSTAMP:20260425T131324Z
UID:141f5f14-c203-44cb-bbc4-ff65c46c46aa
DTSTART;VALUE=DATE:20150803
DTEND;VALUE=DATE:20150803
DESCRIPTION:Squamish BMX Racing Track
LOCATION:1009 Centennial Way  Squamish BC V0N1T0 CAN
SUMMARY:Local Race Single
URL:/site/bmx_races/282638
END:VEVENT
END:VCALENDAR
