BEGIN:VCALENDAR
VERSION:2.0
PRODID:icalendar-ruby
CALSCALE:GREGORIAN
METHOD:PUBLISH
BEGIN:VEVENT
DTSTAMP:20260424T201435Z
UID:5fa7b1a5-5fff-4a53-a95f-aa0bf69851ab
DTSTART;VALUE=DATE:20150321
DTEND;VALUE=DATE:20150321
DESCRIPTION:Oak Creek BMX
LOCATION:648 Riverside Ave  Roseville CA 95678 USA
SUMMARY:Standard Single
URL:/site/bmx_races/282577
END:VEVENT
END:VCALENDAR
