BEGIN:VCALENDAR
VERSION:2.0
PRODID:icalendar-ruby
CALSCALE:GREGORIAN
METHOD:PUBLISH
BEGIN:VEVENT
DTSTAMP:20260425T024529Z
UID:d824ed7a-e14a-49ff-950b-ddcd2c196010
DTSTART;VALUE=DATE:20150626
DTEND;VALUE=DATE:20150626
DESCRIPTION:Rock Hill BMX Supercross Track
LOCATION:1307 Riverwalk Parkway  Rock Hill SC 29730 USA
SUMMARY:Local Race Single
URL:/site/bmx_races/282504
END:VEVENT
END:VCALENDAR
