BEGIN:VCALENDAR
VERSION:2.0
PRODID:icalendar-ruby
CALSCALE:GREGORIAN
METHOD:PUBLISH
BEGIN:VEVENT
DTSTAMP:20260425T025633Z
UID:411bd718-5464-45e1-9d05-4d23897260cc
DTSTART;VALUE=DATE:20150626
DTEND;VALUE=DATE:20150626
DESCRIPTION:Boulder BMX\, Inc
LOCATION:1799 Commons Way  Boulder City NV 89005 USA
SUMMARY:Olympic Day Single
URL:/site/bmx_races/282258
END:VEVENT
END:VCALENDAR
