BEGIN:VCALENDAR
VERSION:2.0
PRODID:icalendar-ruby
CALSCALE:GREGORIAN
METHOD:PUBLISH
BEGIN:VEVENT
DTSTAMP:20260424T233739Z
UID:ec23d900-ba89-4572-bed1-690cb1d30968
DTSTART;VALUE=DATE:20150318
DTEND;VALUE=DATE:20150318
DESCRIPTION:Grand Prix BMX at SoCal Fair
LOCATION:18700 Lake Perris Dr  Perris CA 92571 USA
SUMMARY:Standard Single
URL:/site/bmx_races/282208
END:VEVENT
END:VCALENDAR
