BEGIN:VCALENDAR
VERSION:2.0
PRODID:icalendar-ruby
CALSCALE:GREGORIAN
METHOD:PUBLISH
BEGIN:VEVENT
DTSTAMP:20260424T173707Z
UID:6b14f2c1-9b80-4715-935b-07ce4ce73f19
DTSTART;VALUE=DATE:20150628
DTEND;VALUE=DATE:20150628
DESCRIPTION:Santa Clara PAL BMX
LOCATION:5401 Lafayette Street  Santa Clara CA 95051 USA
SUMMARY:Olympic Day Single
URL:/site/bmx_races/282160
END:VEVENT
END:VCALENDAR
