BEGIN:VCALENDAR
VERSION:2.0
PRODID:icalendar-ruby
CALSCALE:GREGORIAN
METHOD:PUBLISH
BEGIN:VEVENT
DTSTAMP:20260424T202421Z
UID:3a6828f6-64dc-4c00-9b96-f07155b18de1
DTSTART;VALUE=DATE:20150726
DTEND;VALUE=DATE:20150726
DESCRIPTION:Capital City BMX
LOCATION:516 Dennis Ave  Raleigh NC 27604 USA
SUMMARY:Local Race Single
URL:/site/bmx_races/281970
END:VEVENT
END:VCALENDAR
