BEGIN:VCALENDAR
VERSION:2.0
PRODID:icalendar-ruby
CALSCALE:GREGORIAN
METHOD:PUBLISH
BEGIN:VEVENT
DTSTAMP:20260424T190056Z
UID:58c4ee3c-3f16-433c-87fb-226fafd3a9f9
DTSTART;VALUE=DATE:20150718
DTEND;VALUE=DATE:20150718
DESCRIPTION:West Texas BMX
LOCATION:2101 E Cuthbert  Midland TX 79706 USA
SUMMARY:Earned Double
URL:/site/bmx_races/281308
END:VEVENT
END:VCALENDAR
