BEGIN:VCALENDAR
VERSION:2.0
PRODID:icalendar-ruby
CALSCALE:GREGORIAN
METHOD:PUBLISH
BEGIN:VEVENT
DTSTAMP:20260425T142022Z
UID:470bb880-d4a5-440c-8adf-fdd2b19ec334
DTSTART;VALUE=DATE:20150625
DTEND;VALUE=DATE:20150625
DESCRIPTION:Cowtown BMX
LOCATION:447 Haltom Rd  Ft. Worth TX 76117 USA
SUMMARY:Olympic Day Single
URL:/site/bmx_races/281055
END:VEVENT
END:VCALENDAR
