BEGIN:VCALENDAR
VERSION:2.0
PRODID:icalendar-ruby
CALSCALE:GREGORIAN
METHOD:PUBLISH
BEGIN:VEVENT
DTSTAMP:20260424T093708Z
UID:b1bf2fca-bd5c-496b-b04e-d73775f1deb5
DTSTART;VALUE=DATE:20150516
DTEND;VALUE=DATE:20150516
DESCRIPTION:North Shore BMX
LOCATION:1301 Lillooet Road  North Vancouver BC V7J 3T7 CAN
SUMMARY:Local Race Single
URL:/site/bmx_races/280495
END:VEVENT
END:VCALENDAR
