BEGIN:VCALENDAR
VERSION:2.0
PRODID:icalendar-ruby
CALSCALE:GREGORIAN
METHOD:PUBLISH
BEGIN:VEVENT
DTSTAMP:20260424T121323Z
UID:cb1af87e-e9bc-41fe-ac9d-267f80b8c22f
DTSTART;VALUE=DATE:20150307
DTEND;VALUE=DATE:20150307
DESCRIPTION:Sports Park BMX
LOCATION:6901 N Casa Grande Highway  Tucson AZ 85743 USA
SUMMARY:Local Race Single
URL:/site/bmx_races/279562
END:VEVENT
END:VCALENDAR
