BEGIN:VCALENDAR
VERSION:2.0
PRODID:icalendar-ruby
CALSCALE:GREGORIAN
METHOD:PUBLISH
BEGIN:VEVENT
DTSTAMP:20260424T091844Z
UID:953482c3-dad7-4f92-a909-716b1afe3258
DTSTART;VALUE=DATE:20150522
DTEND;VALUE=DATE:20150522
DESCRIPTION:Upstate BMX
LOCATION:6416 Silver Hill Rd  Newark NY 14513 USA
SUMMARY:Local Race Single
URL:/site/bmx_races/278544
END:VEVENT
END:VCALENDAR
