BEGIN:VCALENDAR
VERSION:2.0
PRODID:icalendar-ruby
CALSCALE:GREGORIAN
METHOD:PUBLISH
BEGIN:VEVENT
DTSTAMP:20260424T104434Z
UID:f96b9a22-c1d1-4c66-b8b2-2bd3d9faa46a
DTSTART;VALUE=DATE:20150618
DTEND;VALUE=DATE:20150618
DESCRIPTION:Ed Fountain Park BMX Raceway
LOCATION:1400 N Decatur Blvd  Las Vegas NV 89108 USA
SUMMARY:Local Race Single
URL:/site/bmx_races/278493
END:VEVENT
END:VCALENDAR
