BEGIN:VCALENDAR
VERSION:2.0
PRODID:icalendar-ruby
CALSCALE:GREGORIAN
METHOD:PUBLISH
BEGIN:VEVENT
DTSTAMP:20260426T023717Z
UID:c2bd4ac2-a5f2-4036-bfb1-f78b89be8156
DTSTART;VALUE=DATE:20150312
DTEND;VALUE=DATE:20150312
DESCRIPTION:Triple Creek BMX
LOCATION:12705 Balm Boyette Rd  Riverview FL 33579 USA
SUMMARY:Local Race Single
URL:/site/bmx_races/278007
END:VEVENT
END:VCALENDAR
