BEGIN:VCALENDAR
VERSION:2.0
PRODID:icalendar-ruby
CALSCALE:GREGORIAN
METHOD:PUBLISH
BEGIN:VEVENT
DTSTAMP:20260424T143809Z
UID:ebddbd64-301e-4af0-bd96-3e7e6149bcaf
DTSTART;VALUE=DATE:20151101
DTEND;VALUE=DATE:20151101
DESCRIPTION:Star City BMX
LOCATION:101 Charleston St  Lincoln NE 68508 USA
SUMMARY:Local Race Single
URL:/site/bmx_races/277620
END:VEVENT
END:VCALENDAR
