BEGIN:VCALENDAR
VERSION:2.0
PRODID:icalendar-ruby
CALSCALE:GREGORIAN
METHOD:PUBLISH
BEGIN:VEVENT
DTSTAMP:20260424T141908Z
UID:c7822cd9-2bf1-4f7c-9b0f-699b544c7db6
DTSTART;VALUE=DATE:20150328
DTEND;VALUE=DATE:20150328
DESCRIPTION:Whitney Mesa BMX
LOCATION:1575 Galleria Dr  Henderson NV 89014 USA
SUMMARY:State Race Double
URL:/site/bmx_races/276958
END:VEVENT
END:VCALENDAR
