BEGIN:VCALENDAR
VERSION:2.0
PRODID:icalendar-ruby
CALSCALE:GREGORIAN
METHOD:PUBLISH
BEGIN:VEVENT
DTSTAMP:20260425T131134Z
UID:e3279cb4-9b09-47c0-80c5-1c08a51ab504
DTSTART;VALUE=DATE:20150620
DTEND;VALUE=DATE:20150620
DESCRIPTION:Rad Canyon BMX
LOCATION:5200 W 9800 S  West Jordan UT 84081 USA
SUMMARY:Olympic Day Single
URL:/site/bmx_races/276953
END:VEVENT
END:VCALENDAR
