BEGIN:VCALENDAR
VERSION:2.0
PRODID:icalendar-ruby
CALSCALE:GREGORIAN
METHOD:PUBLISH
BEGIN:VEVENT
DTSTAMP:20260425T202324Z
UID:35686d0f-2389-4cb8-b5c7-adda0bcc88eb
DTSTART;VALUE=DATE:20150727
DTEND;VALUE=DATE:20150727
DESCRIPTION:Metro BMX
LOCATION:3805 Chester Ave  In The Sam Lynn Ballpark Complex Bakersfield CA 
 93301 USA
SUMMARY:Local Race Single
URL:/site/bmx_races/276289
END:VEVENT
END:VCALENDAR
