BEGIN:VCALENDAR
VERSION:2.0
PRODID:icalendar-ruby
CALSCALE:GREGORIAN
METHOD:PUBLISH
BEGIN:VEVENT
DTSTAMP:20260424T190110Z
UID:61258b99-8985-4e1e-b35a-fad73a01d8ad
DTSTART;VALUE=DATE:20150503
DTEND;VALUE=DATE:20150503
DESCRIPTION:Carson City BMX
LOCATION:1555 Livermore Ln  Carson City NV 89721 USA
SUMMARY:Local Race Single
URL:/site/bmx_races/275493
END:VEVENT
END:VCALENDAR
