BEGIN:VCALENDAR
VERSION:2.0
PRODID:icalendar-ruby
CALSCALE:GREGORIAN
METHOD:PUBLISH
BEGIN:VEVENT
DTSTAMP:20260424T094939Z
UID:d51d6f8c-8dc5-41d4-9f89-73a758cefe88
DTSTART;VALUE=DATE:20150516
DTEND;VALUE=DATE:20150516
DESCRIPTION:Klamath Falls BMX
LOCATION:3868 Anderson Ave  Klamath Falls OR 97603 USA
SUMMARY:State Race Double
URL:/site/bmx_races/275144
END:VEVENT
END:VCALENDAR
