BEGIN:VCALENDAR
VERSION:2.0
PRODID:icalendar-ruby
CALSCALE:GREGORIAN
METHOD:PUBLISH
BEGIN:VEVENT
DTSTAMP:20260425T011539Z
UID:c1a08d97-3e07-4802-87f3-546b4dabc1da
DTSTART;VALUE=DATE:20150703
DTEND;VALUE=DATE:20150703
DESCRIPTION:Sandbox BMX
LOCATION: 1440 Sand Island Parkway  Honolulu HI 96819 USA
SUMMARY:State Race Double
URL:/site/bmx_races/274937
END:VEVENT
END:VCALENDAR
