BEGIN:VCALENDAR
VERSION:2.0
PRODID:icalendar-ruby
CALSCALE:GREGORIAN
METHOD:PUBLISH
BEGIN:VEVENT
DTSTAMP:20260425T040712Z
UID:6fd0dae9-7fd6-426b-8906-3708f8a5ec37
DTSTART;VALUE=DATE:20150323
DTEND;VALUE=DATE:20150323
DESCRIPTION:Whitney Mesa BMX
LOCATION:1575 Galleria Dr  Henderson NV 89014 USA
SUMMARY:Local Race Single
URL:/site/bmx_races/274570
END:VEVENT
END:VCALENDAR
