BEGIN:VCALENDAR
VERSION:2.0
PRODID:icalendar-ruby
CALSCALE:GREGORIAN
METHOD:PUBLISH
BEGIN:VEVENT
DTSTAMP:20260424T080018Z
UID:996b869d-e863-46c0-85d8-1f542cef0934
DTSTART;VALUE=DATE:20151114
DTEND;VALUE=DATE:20151114
DESCRIPTION:Black Mountain BMX
LOCATION:24024 N 11th St  Phoenix AZ 85024 USA
SUMMARY:Earned Double
URL:/site/bmx_races/274544
END:VEVENT
END:VCALENDAR
