BEGIN:VCALENDAR
VERSION:2.0
PRODID:icalendar-ruby
CALSCALE:GREGORIAN
METHOD:PUBLISH
BEGIN:VEVENT
DTSTAMP:20260424T212615Z
UID:824a766f-00d6-4cc7-a67c-cc196d4475e0
DTSTART;VALUE=DATE:20150801
DTEND;VALUE=DATE:20150801
DESCRIPTION:CR BMX
LOCATION:1600 Cedar Bend Lane Sw  Ely IA 52227 USA
SUMMARY:State Race Triple
URL:/site/bmx_races/274022
END:VEVENT
END:VCALENDAR
